BEGIN:VCALENDAR
VERSION:2.0
PRODID:-//Seniors In Service of Tampa Bay - ECPv6.15.18//NONSGML v1.0//EN
CALSCALE:GREGORIAN
METHOD:PUBLISH
X-ORIGINAL-URL:https://seniorsinservice.org
X-WR-CALDESC:Events for Seniors In Service of Tampa Bay
REFRESH-INTERVAL;VALUE=DURATION:PT1H
X-Robots-Tag:noindex
X-PUBLISHED-TTL:PT1H
BEGIN:VTIMEZONE
TZID:America/New_York
BEGIN:DAYLIGHT
TZOFFSETFROM:-0500
TZOFFSETTO:-0400
TZNAME:EDT
DTSTART:20200308T070000
END:DAYLIGHT
BEGIN:STANDARD
TZOFFSETFROM:-0400
TZOFFSETTO:-0500
TZNAME:EST
DTSTART:20201101T060000
END:STANDARD
BEGIN:DAYLIGHT
TZOFFSETFROM:-0500
TZOFFSETTO:-0400
TZNAME:EDT
DTSTART:20210314T070000
END:DAYLIGHT
BEGIN:STANDARD
TZOFFSETFROM:-0400
TZOFFSETTO:-0500
TZNAME:EST
DTSTART:20211107T060000
END:STANDARD
BEGIN:DAYLIGHT
TZOFFSETFROM:-0500
TZOFFSETTO:-0400
TZNAME:EDT
DTSTART:20220313T070000
END:DAYLIGHT
BEGIN:STANDARD
TZOFFSETFROM:-0400
TZOFFSETTO:-0500
TZNAME:EST
DTSTART:20221106T060000
END:STANDARD
END:VTIMEZONE
BEGIN:VEVENT
DTSTART;TZID=America/New_York:20210518T100000
DTEND;TZID=America/New_York:20210518T113000
DTSTAMP:20260422T170436
CREATED:20210512T154844Z
LAST-MODIFIED:20210512T203501Z
UID:4204-1621332000-1621337400@seniorsinservice.org
SUMMARY:SPRING OPEN! Virtual Volunteer Appreciation Event
DESCRIPTION:Join Seniors in Service for a VIRTUAL volunteer appreciation event on May 18th at 10:00 am!\nCelebrate Spring\, Service\, New Starts\, and YOU with bingo\, connection and more! Bring your favorite flower to the event to show your Spring spirit and enter to win a prize!\n\n\nYOU MUST BE A SENIORS IN SERVICE VOLUNTEER TO ATTEND! Want to join the party but not a volunteer? No problem! CLICK HERE to get involved or call Chris Noble at (813) 492-8916.\nCLICK HERE TO JOIN THE PARTY!\nZoom link not working? No problem! Use the link and passcode below to enter the meeting. \nZoom Link: https://us02web.zoom.us/j/85286596794?pwd=akMwODVubUVRSFBwVkxOeXpFZWJoZz09= Meeting ID: 852 8659 6794 Passcode: 630306
URL:https://seniorsinservice.org/event/spring-open-virtual-volunteer-appreciation-event/
LOCATION:FL\, United States
CATEGORIES:Virtual Event,Volunteer Only
ATTACH;FMTTYPE=image/jpeg:https://seniorsinservice.org/wp-content/uploads/7ab1bd0528167b3f15d227f88d825d42.jpg
END:VEVENT
END:VCALENDAR