BEGIN:VCALENDAR
VERSION:2.0
PRODID:-//Seniors In Service of Tampa Bay - ECPv6.15.18//NONSGML v1.0//EN
CALSCALE:GREGORIAN
METHOD:PUBLISH
X-ORIGINAL-URL:https://seniorsinservice.org
X-WR-CALDESC:Events for Seniors In Service of Tampa Bay
REFRESH-INTERVAL;VALUE=DURATION:PT1H
X-Robots-Tag:noindex
X-PUBLISHED-TTL:PT1H
BEGIN:VTIMEZONE
TZID:America/New_York
BEGIN:DAYLIGHT
TZOFFSETFROM:-0500
TZOFFSETTO:-0400
TZNAME:EDT
DTSTART:20200308T070000
END:DAYLIGHT
BEGIN:STANDARD
TZOFFSETFROM:-0400
TZOFFSETTO:-0500
TZNAME:EST
DTSTART:20201101T060000
END:STANDARD
BEGIN:DAYLIGHT
TZOFFSETFROM:-0500
TZOFFSETTO:-0400
TZNAME:EDT
DTSTART:20210314T070000
END:DAYLIGHT
BEGIN:STANDARD
TZOFFSETFROM:-0400
TZOFFSETTO:-0500
TZNAME:EST
DTSTART:20211107T060000
END:STANDARD
BEGIN:DAYLIGHT
TZOFFSETFROM:-0500
TZOFFSETTO:-0400
TZNAME:EDT
DTSTART:20220313T070000
END:DAYLIGHT
BEGIN:STANDARD
TZOFFSETFROM:-0400
TZOFFSETTO:-0500
TZNAME:EST
DTSTART:20221106T060000
END:STANDARD
END:VTIMEZONE
BEGIN:VEVENT
DTSTART;TZID=America/New_York:20210610T110000
DTEND;TZID=America/New_York:20210610T120000
DTSTAMP:20260422T191348
CREATED:20210525T162509Z
LAST-MODIFIED:20210525T162509Z
UID:4469-1623322800-1623326400@seniorsinservice.org
SUMMARY:Senior Companion In-Service
DESCRIPTION:In-Services are learning opportunities that are available for current Senior Companion volunteers ONLY.  Interested in helping seniors live independently\, with dignity? Click HERE to get started! 
URL:https://seniorsinservice.org/event/senior-companion-in-service/
LOCATION:FL\, United States
CATEGORIES:Senior Services,Volunteer only
END:VEVENT
END:VCALENDAR