BEGIN:VCALENDAR
VERSION:2.0
PRODID:-//Seniors In Service of Tampa Bay - ECPv6.15.18//NONSGML v1.0//EN
CALSCALE:GREGORIAN
METHOD:PUBLISH
X-ORIGINAL-URL:https://seniorsinservice.org
X-WR-CALDESC:Events for Seniors In Service of Tampa Bay
REFRESH-INTERVAL;VALUE=DURATION:PT1H
X-Robots-Tag:noindex
X-PUBLISHED-TTL:PT1H
BEGIN:VTIMEZONE
TZID:America/New_York
BEGIN:DAYLIGHT
TZOFFSETFROM:-0500
TZOFFSETTO:-0400
TZNAME:EDT
DTSTART:20200308T070000
END:DAYLIGHT
BEGIN:STANDARD
TZOFFSETFROM:-0400
TZOFFSETTO:-0500
TZNAME:EST
DTSTART:20201101T060000
END:STANDARD
BEGIN:DAYLIGHT
TZOFFSETFROM:-0500
TZOFFSETTO:-0400
TZNAME:EDT
DTSTART:20210314T070000
END:DAYLIGHT
BEGIN:STANDARD
TZOFFSETFROM:-0400
TZOFFSETTO:-0500
TZNAME:EST
DTSTART:20211107T060000
END:STANDARD
BEGIN:DAYLIGHT
TZOFFSETFROM:-0500
TZOFFSETTO:-0400
TZNAME:EDT
DTSTART:20220313T070000
END:DAYLIGHT
BEGIN:STANDARD
TZOFFSETFROM:-0400
TZOFFSETTO:-0500
TZNAME:EST
DTSTART:20221106T060000
END:STANDARD
END:VTIMEZONE
BEGIN:VEVENT
DTSTART;TZID=America/New_York:20210625T110000
DTEND;TZID=America/New_York:20210625T120000
DTSTAMP:20260422T151527
CREATED:20210512T154844Z
LAST-MODIFIED:20210512T160730Z
UID:4203-1624618800-1624622400@seniorsinservice.org
SUMMARY:Brunch Buddies - Connect Virtually with New Friends
DESCRIPTION:Join Seniors in Service for Bi-Weekly VIRTUAL Get-Togethers featuring connection\, guest speakers\, bingo\, and more! For this week’s speaker\, special Guest Dani Mae will join us to share the importance of meditation and guide us in some breathe work and exercises.
URL:https://seniorsinservice.org/event/brunch-buddies-connect-virtually-with-new-friends-4/
LOCATION:FL\, United States
ATTACH;FMTTYPE=image/jpeg:https://seniorsinservice.org/wp-content/uploads/c205a50f21f749e7754dc0b434e724b0.jpg
END:VEVENT
BEGIN:VEVENT
DTSTART;TZID=America/New_York:20210625T110000
DTEND;TZID=America/New_York:20210625T120000
DTSTAMP:20260422T151527
CREATED:20210525T162610Z
LAST-MODIFIED:20210525T162610Z
UID:4471-1624618800-1624622400@seniorsinservice.org
SUMMARY:Senior Companion In-Service
DESCRIPTION:In-Services are learning opportunities that are available for current Senior Companion volunteers ONLY. Interested in helping seniors live independently\, with dignity? Click HERE to get started! 
URL:https://seniorsinservice.org/event/senior-companion-in-service-2/
LOCATION:FL\, United States
CATEGORIES:Senior Services,Volunteer only
END:VEVENT
END:VCALENDAR