BEGIN:VCALENDAR
VERSION:2.0
PRODID:-//Seniors In Service of Tampa Bay - ECPv6.15.18//NONSGML v1.0//EN
CALSCALE:GREGORIAN
METHOD:PUBLISH
X-ORIGINAL-URL:https://seniorsinservice.org
X-WR-CALDESC:Events for Seniors In Service of Tampa Bay
REFRESH-INTERVAL;VALUE=DURATION:PT1H
X-Robots-Tag:noindex
X-PUBLISHED-TTL:PT1H
BEGIN:VTIMEZONE
TZID:America/New_York
BEGIN:DAYLIGHT
TZOFFSETFROM:-0500
TZOFFSETTO:-0400
TZNAME:EDT
DTSTART:20210314T070000
END:DAYLIGHT
BEGIN:STANDARD
TZOFFSETFROM:-0400
TZOFFSETTO:-0500
TZNAME:EST
DTSTART:20211107T060000
END:STANDARD
BEGIN:DAYLIGHT
TZOFFSETFROM:-0500
TZOFFSETTO:-0400
TZNAME:EDT
DTSTART:20220313T070000
END:DAYLIGHT
BEGIN:STANDARD
TZOFFSETFROM:-0400
TZOFFSETTO:-0500
TZNAME:EST
DTSTART:20221106T060000
END:STANDARD
BEGIN:DAYLIGHT
TZOFFSETFROM:-0500
TZOFFSETTO:-0400
TZNAME:EDT
DTSTART:20230312T070000
END:DAYLIGHT
BEGIN:STANDARD
TZOFFSETFROM:-0400
TZOFFSETTO:-0500
TZNAME:EST
DTSTART:20231105T060000
END:STANDARD
BEGIN:DAYLIGHT
TZOFFSETFROM:-0500
TZOFFSETTO:-0400
TZNAME:EDT
DTSTART:20240310T070000
END:DAYLIGHT
BEGIN:STANDARD
TZOFFSETFROM:-0400
TZOFFSETTO:-0500
TZNAME:EST
DTSTART:20241103T060000
END:STANDARD
END:VTIMEZONE
BEGIN:VEVENT
DTSTART;TZID=America/New_York:20220121T110000
DTEND;TZID=America/New_York:20220121T120000
DTSTAMP:20260420T233258
CREATED:20220104T143846Z
LAST-MODIFIED:20220104T143846Z
UID:4848-1642762800-1642766400@seniorsinservice.org
SUMMARY:Brunch Buddies
DESCRIPTION:Brunch Buddies and Bingo\nConnect with your community\, learn about resources to improve your life\, and play Bingo!\nDon’t miss this opportunity to learn about all the resources in your community that focus on seniors! David Moss\, owner of Senior Life Publications for Pinellas\, Pasco and Hillsborough Counties will be joining us to share more about their publications and events designed to connect seniors with the information they need to live their best life! \nAbout Brunch Buddies: \nEvery other Friday\, Seniors in Service volunteers meet online through Zoom for Brunch Buddies and Bingo. We’ll welcome a new community guest each week to share information for better health\, financial stability\, volunteer opportunities\, and much more. Stay until the end for a round of Bingo and prizes! \nIf you’re a Seniors in Service volunteer watch your email for more information and the Zoom link\, or contact Aria Garling at agarling@seniorsinservice.org for more information.
URL:https://seniorsinservice.org/event/brunch-buddies-2/
LOCATION:Online through Zoom\, FL\, United States
END:VEVENT
BEGIN:VEVENT
DTSTART;TZID=America/New_York:20220204T110000
DTEND;TZID=America/New_York:20220204T120000
DTSTAMP:20260420T233258
CREATED:20220104T144101Z
LAST-MODIFIED:20220104T144101Z
UID:4850-1643972400-1643976000@seniorsinservice.org
SUMMARY:Brunch Buddies
DESCRIPTION:Brunch Buddies and Bingo\nConnect with your community\, learn about resources to improve your life\, and play Bingo!\nAre you eating the right foods to keep you healthy? Here’s your opportunity to find out. Colton Petish from the UF/IFAS Extension Family Nutrition Program will share tips to prepare nutritious food on a budget. You’ll get recipe ideas\, food safety information\, and cooking tips to keep your body happy and healthy. \nAbout Brunch Buddies: \nEvery other Friday\, Seniors in Service volunteers meet online through Zoom for Brunch Buddies and Bingo. We’ll welcome a new community guest each week to share information for better health\, financial stability\, volunteer opportunities\, and much more. Stay until the end for a round of Bingo and prizes! \nIf you’re a Seniors in Service volunteer watch your email for more information and the Zoom link\, or contact Aria Garling at agarling@seniorsinservice.org for more information.
URL:https://seniorsinservice.org/event/brunch-buddies-3/
LOCATION:Online through Zoom\, FL\, United States
END:VEVENT
BEGIN:VEVENT
DTSTART;TZID=America/New_York:20220919T103000
DTEND;TZID=America/New_York:20220919T120000
DTSTAMP:20260420T233258
CREATED:20220901T203251Z
LAST-MODIFIED:20220916T180653Z
UID:6209-1663583400-1663588800@seniorsinservice.org
SUMMARY:Security Matters: Scam & Fraud Prevention
DESCRIPTION:Don’t panic. We have the knowledge you need to stay safe! Join us to learn about scam and fraud prevention from the experts at Pasco County Sheriff’s Office. They have years of experience keeping folks up-to-date and will share their expertise to make sure your personal information stays safe and secure.
URL:https://seniorsinservice.org/event/security-matters-scam-fraud-prevention/
LOCATION:New River Public Library – Wesley Chapel\, 34043 FL-54\, Wesley Chapel\, FL\, 33543\, United States
END:VEVENT
BEGIN:VEVENT
DTSTART;TZID=America/New_York:20220922T103000
DTEND;TZID=America/New_York:20220922T113000
DTSTAMP:20260420T233258
CREATED:20220909T200903Z
LAST-MODIFIED:20220916T173127Z
UID:6226-1663842600-1663846200@seniorsinservice.org
SUMMARY:Security Matters: Scam & Fraud Prevention
DESCRIPTION:Don’t panic. We have the knowledge you need to stay safe! Join us to learn about scam and fraud prevention from the experts at Pasco County Sheriff’s Office. They have years of experience keeping folks up-to-date and will share their expertise to make sure your personal information stays safe and secure.
URL:https://seniorsinservice.org/event/security-matters-scam-fraud-prevention-2/
LOCATION:Centennial Park Branch Library – Holiday\, 5740 Moog Road\, Holiday\, FL\, 34690\, United States
END:VEVENT
BEGIN:VEVENT
DTSTART;TZID=America/New_York:20221007T090000
DTEND;TZID=America/New_York:20221007T120000
DTSTAMP:20260420T233258
CREATED:20221003T164117Z
LAST-MODIFIED:20221007T202041Z
UID:6414-1665133200-1665144000@seniorsinservice.org
SUMMARY:Battle of the Bays
DESCRIPTION:Hillsborough Register Here: www.eventbrite.com/e/battle-of-the-bays-courtney-campbell-causeway-clean-up-tickets-423634581437 \nPinellas Register Here: www.eventbrite.com/e/battle-of-the-bays-gandy-beach-cleanup-tickets-421077693717 \n\nJoin us Friday\, October 7th for a Courtney Campbell Causeway and Gandy Beach Clean Up! Volunteers will meet at the Courtney Campbell Causeway boat ramp in Hillsborough or on the southeast side of Gandy Beach in Pinellas\, then venture along the shore to gather litter and debris. This clean up will occur on both sides of the Bay\, so we will be competing to see which County can collect the most trash!\nWear casual clothes and plan for walking while you enjoy the beautiful scenery of the bay. All supplies for the clean up will be provided by Keeping Tampa Bay Beautiful and Keep Pinellas Beautiful on site. All ages welcome\, but those under 18 must be accompanied by an adult.\n\n\nWhat to Bring:\n-Closed Toe Shoes\n-Sunscreen\n-Hat\n-Reusable Water Bottle (water station available)
URL:https://seniorsinservice.org/event/battle-of-the-bays/
LOCATION:FL\, United States
END:VEVENT
BEGIN:VEVENT
DTSTART;TZID=America/New_York:20221011T103000
DTEND;TZID=America/New_York:20221011T113000
DTSTAMP:20260420T233258
CREATED:20221003T145210Z
LAST-MODIFIED:20221007T200736Z
UID:6401-1665484200-1665487800@seniorsinservice.org
SUMMARY:Family Matters: Celebrate National Family History Month!
DESCRIPTION:Family connections are important. Let’s unlock your story! Join us for an engaging talk about unlocking our family histories with guest speaker Genealogist Rue Lynn Galbraith. Every Family History is unique. Learn the basics of conducting research from a member of the Association of Professional Genealogists.
URL:https://seniorsinservice.org/event/family-matters-celebrate-national-family-history-month/
LOCATION:New River Public Library – Wesley Chapel\, 34043 FL-54\, Wesley Chapel\, FL\, 33543\, United States
END:VEVENT
BEGIN:VEVENT
DTSTART;TZID=America/New_York:20221027T103000
DTEND;TZID=America/New_York:20221027T113000
DTSTAMP:20260420T233258
CREATED:20221003T150932Z
LAST-MODIFIED:20221007T201627Z
UID:6404-1666866600-1666870200@seniorsinservice.org
SUMMARY:Family Matters: Celebrate National Family History Month!
DESCRIPTION:Family connections are important. Let’s unlock your story! Join us for an engaging talk about unlocking our family histories with guest speaker Genealogist Rue Lynn Galbraith. Every Family History is unique. Learn the basics of conducting research from a member of the Association of Professional Genealogists.
URL:https://seniorsinservice.org/event/family-matters-celebrate-national-family-history-month-2/
LOCATION:Centennial Park Branch Library – Holiday\, 5740 Moog Road\, Holiday\, FL\, 34690\, United States
END:VEVENT
BEGIN:VEVENT
DTSTART;TZID=America/New_York:20221027T133000
DTEND;TZID=America/New_York:20221027T150000
DTSTAMP:20260420T233258
CREATED:20221014T165016Z
LAST-MODIFIED:20221014T165554Z
UID:6718-1666877400-1666882800@seniorsinservice.org
SUMMARY:Healthy Habits: "Staying Healthy & Preventing Falls: Everyday Strategies"
DESCRIPTION:Would you like to learn Healthy Habits to improve your mental and physical well-being? Join the club!  Each month you’ll learn healthy habits to live your best life. \nThis month’s topic is “Staying Healthy & Preventing Falls: Everyday Strategies.” Health professionals from Gannon University will share their unique points of view on how you can keep your mind\, body\, and home safe.  This diverse panel of speakers will include: \n\nTania Flink\, PhD – Exercise Scientist with a specialization in healthy aging\nScott French\, PAC\, MPAS – Physician’s Assistant with years of service in primary and urgent care\nStephanie Karidas\, PhD\, CCC-SLP – Speech-Language Pathologist with specializations in adult cognitive function and brain injury\nAnne Moscony\, OTD\, CHT\, OTR/L – Occupational Therapist with specializations in hand therapy and ergonomic assessments of the home\n\nJoin us for this interactive and informative talk. This event will be held in person and over Zoom. Join us in person at Sun Towers – 101 Trinity Lakes Blvd\, valet parking will be available. To receive the Zoom link or for more information email Michelle Mason at mmason@seniorsinservice.org.
URL:https://seniorsinservice.org/event/healthy-habits-staying-healthy-preventing-falls-everyday-strategies/
LOCATION:Sun Towers\, 101 Trinity Lakes Blvd\, Sun City Center\, FL\, 33573\, United States
ATTACH;FMTTYPE=image/png:https://seniorsinservice.org/wp-content/uploads/Elink-images.png
END:VEVENT
BEGIN:VEVENT
DTSTART;TZID=America/New_York:20230415T093000
DTEND;TZID=America/New_York:20230415T123000
DTSTAMP:20260420T233258
CREATED:20230403T175538Z
LAST-MODIFIED:20230403T175538Z
UID:7295-1681551000-1681561800@seniorsinservice.org
SUMMARY:Beautify Seniors in Service
DESCRIPTION:All ages welcome to help add mulch\, and rake up leaves to make our office a welcome space for guests! Please RSVP to Rose at rrolon@seniorsinservice.org or (813) 492- 8932 by April 7th. \nBonus Service Opportunity: Bring a non-perishable item to support our food drive. \n\nDate: Saturday\, April 15th\, 2023\nTime: 9:30 AM – 12:30 PM\nLocation: Seniors in Service Office 1306 W. Sligh Ave. Tampa\, FL 33604  [pdf-embedder url=”https://seniorsinservice.org/wp-content/uploads/Beautification-Day.pdf” title=”Beautification Day”]
URL:https://seniorsinservice.org/event/beautify-seniors-in-service/
LOCATION:Seniors in Service Office\, 1306 W. Sligh Ave.\, Tampa\, FL\, 33604\, United States
END:VEVENT
END:VCALENDAR