BEGIN:VCALENDAR
VERSION:2.0
PRODID:-//Seniors In Service of Tampa Bay - ECPv6.15.18//NONSGML v1.0//EN
CALSCALE:GREGORIAN
METHOD:PUBLISH
X-WR-CALNAME:Seniors In Service of Tampa Bay
X-ORIGINAL-URL:https://seniorsinservice.org
X-WR-CALDESC:Events for Seniors In Service of Tampa Bay
REFRESH-INTERVAL;VALUE=DURATION:PT1H
X-Robots-Tag:noindex
X-PUBLISHED-TTL:PT1H
BEGIN:VTIMEZONE
TZID:America/New_York
BEGIN:DAYLIGHT
TZOFFSETFROM:-0500
TZOFFSETTO:-0400
TZNAME:EDT
DTSTART:20200308T070000
END:DAYLIGHT
BEGIN:STANDARD
TZOFFSETFROM:-0400
TZOFFSETTO:-0500
TZNAME:EST
DTSTART:20201101T060000
END:STANDARD
BEGIN:DAYLIGHT
TZOFFSETFROM:-0500
TZOFFSETTO:-0400
TZNAME:EDT
DTSTART:20210314T070000
END:DAYLIGHT
BEGIN:STANDARD
TZOFFSETFROM:-0400
TZOFFSETTO:-0500
TZNAME:EST
DTSTART:20211107T060000
END:STANDARD
BEGIN:DAYLIGHT
TZOFFSETFROM:-0500
TZOFFSETTO:-0400
TZNAME:EDT
DTSTART:20220313T070000
END:DAYLIGHT
BEGIN:STANDARD
TZOFFSETFROM:-0400
TZOFFSETTO:-0500
TZNAME:EST
DTSTART:20221106T060000
END:STANDARD
END:VTIMEZONE
BEGIN:VEVENT
DTSTART;TZID=America/New_York:20210709T110000
DTEND;TZID=America/New_York:20210709T120000
DTSTAMP:20260422T132238
CREATED:20210525T162658Z
LAST-MODIFIED:20210525T162658Z
UID:4473-1625828400-1625832000@seniorsinservice.org
SUMMARY:Senior Companion In-Service
DESCRIPTION:In-Services are learning opportunities that are available for current Senior Companion volunteers ONLY. Interested in helping seniors live independently\, with dignity? Click HERE to get started! 
URL:https://seniorsinservice.org/event/senior-companion-in-service-3/
LOCATION:FL\, United States
CATEGORIES:Senior Services,Volunteer only
END:VEVENT
BEGIN:VEVENT
DTSTART;TZID=America/New_York:20210711T000000
DTEND;TZID=America/New_York:20210711T000000
DTSTAMP:20260422T132238
CREATED:20210512T200936Z
LAST-MODIFIED:20210512T201634Z
UID:4247-1625961600-1625961600@seniorsinservice.org
SUMMARY:Foster Grandparents Pinellas In-Service
DESCRIPTION:In-Services are learning opportunities that are available for current Foster Grandparent volunteers ONLY. Interested in supporting our community’s children? Click HERE to get started! 
URL:https://seniorsinservice.org/event/foster-grandparents-pinellas-in-service/
LOCATION:FL\, United States
CATEGORIES:Foster Grandparent,Volunteer only,Volunteer Only
END:VEVENT
BEGIN:VEVENT
DTSTART;TZID=America/New_York:20210716T110000
DTEND;TZID=America/New_York:20210716T123000
DTSTAMP:20260422T132238
CREATED:20210512T162039Z
LAST-MODIFIED:20210512T201012Z
UID:4220-1626433200-1626438600@seniorsinservice.org
SUMMARY:Tai Chi - Qui Gong with Certified Instructor Jeff Belton
DESCRIPTION:This event is for Seniors in Service volunteers ONLY. Not a volunteer but want to take the class? No problem! CLICK HERE to get involved!\n\n\n\n			\n			\n				\n				\n				\n				\n			\n				\n				\n				\n				\n				\n				\n				\n				\n				\n				\n				Tai Chi – Qi Gong for Health and Pain Reduction\nJoin Seniors in Service and Certified American Tai Chi & Qigong Association instructor\, Jeff Bolton\, for FREE and VIRTUAL Tai Chi-Qi Gong classes! Tai Chi – Qi Gong is proven to reduce pain\, stress\, anxiety and depression. It improves flexibility\, strength\, and immune system health. Starting feeling great with Seniors in Service! \nClasses will be provided by Jeff Belton\, Certified American Tai Chi & Qigong Association instructor and current provider Whole Health Tai Chi – Qi Gong and Qi Gong Walking at Tampa VA – James A. Haley Veterans’ Hospital\, Tampa Florida. \n\n			\n			\n				\n				\n				\n				\n				\n				\n				\n				\n				\n				\n					\n					\n						What is Tai Chi - Qi Gong?\n						Tai Chi – Qi Gong are mind-body practices that have been used for thousands of years to promote mind body health\, immune system\, nervous system health and prevention of chronic disease. Tai Chi is a moving dynamic form of Qi Gong. Both cultivate the bioenergy of the body\, traditionally called “qi” (pronounced “chi”)\, by emphasizing mindful focused breathing and mindful movements. \n					\n				\n			\n			\n				\n				\n				\n				\n			\n				\n				\n				\n				\n				\n				\n				Click Here to join the class!\n			\n				\n				\n				\n				\n				Button above not working? No problem! Use the Zoom link below to access the event! The link is the same for BOTH event dates.Zoom Link:https://us02web.zoom.us/j/88342357332?pwd=dlk4SGJQaTEvQTQwU2tLSkJRMFBSUT09Passcode: 637311
URL:https://seniorsinservice.org/event/tai-chi-qui-gong-with-certified-instructor-jeff-belton-2/
LOCATION:FL\, United States
CATEGORIES:Virtual Event
ATTACH;FMTTYPE=image/jpeg:https://seniorsinservice.org/wp-content/uploads/066b16a0b62834fb295c4300073d9bd8.jpg
END:VEVENT
BEGIN:VEVENT
DTSTART;TZID=America/New_York:20210717T110000
DTEND;TZID=America/New_York:20210717T120000
DTSTAMP:20260422T132238
CREATED:20210525T162251Z
LAST-MODIFIED:20210525T162251Z
UID:4465-1626519600-1626523200@seniorsinservice.org
SUMMARY:Senior Companion In-Service - Spanish Speaking
DESCRIPTION:In-Services are learning opportunities that are available for current Senior Companion volunteers ONLY. This in-service will be held in Spanish. Interested in helping seniors live independently\, with dignity? Click HERE to get started! 
URL:https://seniorsinservice.org/event/senior-companion-in-service-spanish-speaking-2/
LOCATION:FL\, United States
CATEGORIES:Senior Services,Volunteer only
END:VEVENT
BEGIN:VEVENT
DTSTART;TZID=America/New_York:20210721T110000
DTEND;TZID=America/New_York:20210721T120000
DTSTAMP:20260422T132238
CREATED:20210525T162345Z
LAST-MODIFIED:20210525T162345Z
UID:4467-1626865200-1626868800@seniorsinservice.org
SUMMARY:Senior Companion In-Service - Spanish Speaking
DESCRIPTION:In-Services are learning opportunities that are available for current Senior Companion volunteers ONLY. This in-service will be held in Spanish. Interested in helping seniors live independently\, with dignity? Click HERE to get started! 
URL:https://seniorsinservice.org/event/senior-companion-in-service-spanish-speaking-3/
LOCATION:FL\, United States
CATEGORIES:Senior Services,Volunteer only
END:VEVENT
END:VCALENDAR