BEGIN:VCALENDAR
VERSION:2.0
PRODID:-//Seniors In Service of Tampa Bay - ECPv6.15.18//NONSGML v1.0//EN
CALSCALE:GREGORIAN
METHOD:PUBLISH
X-ORIGINAL-URL:https://seniorsinservice.org
X-WR-CALDESC:Events for Seniors In Service of Tampa Bay
REFRESH-INTERVAL;VALUE=DURATION:PT1H
X-Robots-Tag:noindex
X-PUBLISHED-TTL:PT1H
BEGIN:VTIMEZONE
TZID:America/New_York
BEGIN:DAYLIGHT
TZOFFSETFROM:-0500
TZOFFSETTO:-0400
TZNAME:EDT
DTSTART:20210314T070000
END:DAYLIGHT
BEGIN:STANDARD
TZOFFSETFROM:-0400
TZOFFSETTO:-0500
TZNAME:EST
DTSTART:20211107T060000
END:STANDARD
BEGIN:DAYLIGHT
TZOFFSETFROM:-0500
TZOFFSETTO:-0400
TZNAME:EDT
DTSTART:20220313T070000
END:DAYLIGHT
BEGIN:STANDARD
TZOFFSETFROM:-0400
TZOFFSETTO:-0500
TZNAME:EST
DTSTART:20221106T060000
END:STANDARD
BEGIN:DAYLIGHT
TZOFFSETFROM:-0500
TZOFFSETTO:-0400
TZNAME:EDT
DTSTART:20230312T070000
END:DAYLIGHT
BEGIN:STANDARD
TZOFFSETFROM:-0400
TZOFFSETTO:-0500
TZNAME:EST
DTSTART:20231105T060000
END:STANDARD
END:VTIMEZONE
BEGIN:VEVENT
DTSTART;TZID=America/New_York:20220204T110000
DTEND;TZID=America/New_York:20220204T120000
DTSTAMP:20260420T113652
CREATED:20220104T144101Z
LAST-MODIFIED:20220104T144101Z
UID:4850-1643972400-1643976000@seniorsinservice.org
SUMMARY:Brunch Buddies
DESCRIPTION:Brunch Buddies and Bingo\nConnect with your community\, learn about resources to improve your life\, and play Bingo!\nAre you eating the right foods to keep you healthy? Here’s your opportunity to find out. Colton Petish from the UF/IFAS Extension Family Nutrition Program will share tips to prepare nutritious food on a budget. You’ll get recipe ideas\, food safety information\, and cooking tips to keep your body happy and healthy. \nAbout Brunch Buddies: \nEvery other Friday\, Seniors in Service volunteers meet online through Zoom for Brunch Buddies and Bingo. We’ll welcome a new community guest each week to share information for better health\, financial stability\, volunteer opportunities\, and much more. Stay until the end for a round of Bingo and prizes! \nIf you’re a Seniors in Service volunteer watch your email for more information and the Zoom link\, or contact Aria Garling at agarling@seniorsinservice.org for more information.
URL:https://seniorsinservice.org/event/brunch-buddies-3/
LOCATION:Online through Zoom\, FL\, United States
END:VEVENT
END:VCALENDAR